BEGIN:VCALENDAR
VERSION:2.0
PRODID:-//Ray of Life Healing - ECPv6.15.20//NONSGML v1.0//EN
CALSCALE:GREGORIAN
METHOD:PUBLISH
X-ORIGINAL-URL:https://www.rayoflifehealing.com
X-WR-CALDESC:Events for Ray of Life Healing
REFRESH-INTERVAL;VALUE=DURATION:PT1H
X-Robots-Tag:noindex
X-PUBLISHED-TTL:PT1H
BEGIN:VTIMEZONE
TZID:America/Detroit
BEGIN:DAYLIGHT
TZOFFSETFROM:-0500
TZOFFSETTO:-0400
TZNAME:EDT
DTSTART:20220313T070000
END:DAYLIGHT
BEGIN:STANDARD
TZOFFSETFROM:-0400
TZOFFSETTO:-0500
TZNAME:EST
DTSTART:20221106T060000
END:STANDARD
BEGIN:DAYLIGHT
TZOFFSETFROM:-0500
TZOFFSETTO:-0400
TZNAME:EDT
DTSTART:20230312T070000
END:DAYLIGHT
BEGIN:STANDARD
TZOFFSETFROM:-0400
TZOFFSETTO:-0500
TZNAME:EST
DTSTART:20231105T060000
END:STANDARD
BEGIN:DAYLIGHT
TZOFFSETFROM:-0500
TZOFFSETTO:-0400
TZNAME:EDT
DTSTART:20240310T070000
END:DAYLIGHT
BEGIN:STANDARD
TZOFFSETFROM:-0400
TZOFFSETTO:-0500
TZNAME:EST
DTSTART:20241103T060000
END:STANDARD
END:VTIMEZONE
BEGIN:VEVENT
DTSTART;TZID=America/Detroit:20230831T190000
DTEND;TZID=America/Detroit:20230831T210000
DTSTAMP:20260423T174601
CREATED:20230427T230347Z
LAST-MODIFIED:20230427T230352Z
UID:4956-1693508400-1693515600@www.rayoflifehealing.com
SUMMARY:Transformative Self-Healing Class (Day 10 of 10)
DESCRIPTION:More Info and Sign up HERE
URL:https://www.rayoflifehealing.com/event/transformative-self-healing-class-day-10-of-10/
LOCATION:Online\, Webinar\, Anywhere\, United States
CATEGORIES:CCT,classes,Levels 1 & 2 for Personal Use,Transformative Self-Healing
ATTACH;FMTTYPE=image/jpeg:https://www.rayoflifehealing.com/wp-content/uploads/2020/02/Transformative-Self-Healing-Class-Page.jpg
ORGANIZER;CN="Scott McBride":MAILTO:Scott@RayofLifeHealing.com
END:VEVENT
BEGIN:VEVENT
DTSTART;TZID=America/Detroit:20230727T190000
DTEND;TZID=America/Detroit:20230727T210000
DTSTAMP:20260423T174601
CREATED:20230427T230001Z
LAST-MODIFIED:20230427T230007Z
UID:4953-1690484400-1690491600@www.rayoflifehealing.com
SUMMARY:Transformative Self-Healing Class (Day 9 of 10)
DESCRIPTION:More Info and Sign up HERE
URL:https://www.rayoflifehealing.com/event/transformative-self-healing-class-day-9-of-10/
LOCATION:Online\, Webinar\, Anywhere\, United States
CATEGORIES:CCT,classes,Levels 1 & 2 for Personal Use,Transformative Self-Healing
ATTACH;FMTTYPE=image/jpeg:https://www.rayoflifehealing.com/wp-content/uploads/2020/02/Transformative-Self-Healing-Class-Page.jpg
ORGANIZER;CN="Scott McBride":MAILTO:Scott@RayofLifeHealing.com
END:VEVENT
BEGIN:VEVENT
DTSTART;TZID=America/Detroit:20230720T190000
DTEND;TZID=America/Detroit:20230720T210000
DTSTAMP:20260423T174601
CREATED:20230427T225757Z
LAST-MODIFIED:20230427T225802Z
UID:4950-1689879600-1689886800@www.rayoflifehealing.com
SUMMARY:Transformative Self-Healing Class (Day 8 of 10)
DESCRIPTION:More Info and Sign up HERE
URL:https://www.rayoflifehealing.com/event/transformative-self-healing-class-day-8-of-10/
LOCATION:Online\, Webinar\, Anywhere\, United States
CATEGORIES:CCT,classes,Levels 1 & 2 for Personal Use,Transformative Self-Healing
ATTACH;FMTTYPE=image/jpeg:https://www.rayoflifehealing.com/wp-content/uploads/2020/02/Transformative-Self-Healing-Class-Page.jpg
ORGANIZER;CN="Scott McBride":MAILTO:Scott@RayofLifeHealing.com
END:VEVENT
BEGIN:VEVENT
DTSTART;TZID=America/Detroit:20230713T190000
DTEND;TZID=America/Detroit:20230713T210000
DTSTAMP:20260423T174601
CREATED:20230427T225537Z
LAST-MODIFIED:20230427T225542Z
UID:4946-1689274800-1689282000@www.rayoflifehealing.com
SUMMARY:Transformative Self-Healing Class (Day 7 of 10)
DESCRIPTION:More Info and Sign up HERE
URL:https://www.rayoflifehealing.com/event/transformative-self-healing-class-day-7-of-10/
LOCATION:Online\, Webinar\, Anywhere\, United States
CATEGORIES:CCT,classes,Levels 1 & 2 for Personal Use,Transformative Self-Healing
ATTACH;FMTTYPE=image/jpeg:https://www.rayoflifehealing.com/wp-content/uploads/2020/02/Transformative-Self-Healing-Class-Page.jpg
ORGANIZER;CN="Scott McBride":MAILTO:Scott@RayofLifeHealing.com
END:VEVENT
BEGIN:VEVENT
DTSTART;TZID=America/Detroit:20230706T190000
DTEND;TZID=America/Detroit:20230706T210000
DTSTAMP:20260423T174601
CREATED:20230427T225335Z
LAST-MODIFIED:20230427T225341Z
UID:4943-1688670000-1688677200@www.rayoflifehealing.com
SUMMARY:Transformative Self-Healing Class (Day 6 of 10)
DESCRIPTION:More Info and Sign up HERE
URL:https://www.rayoflifehealing.com/event/transformative-self-healing-class-day-6-of-10/
LOCATION:Online\, Webinar\, Anywhere\, United States
CATEGORIES:CCT,classes,Levels 1 & 2 for Personal Use,Transformative Self-Healing
ATTACH;FMTTYPE=image/jpeg:https://www.rayoflifehealing.com/wp-content/uploads/2020/02/Transformative-Self-Healing-Class-Page.jpg
ORGANIZER;CN="Scott McBride":MAILTO:Scott@RayofLifeHealing.com
END:VEVENT
BEGIN:VEVENT
DTSTART;TZID=America/Detroit:20230629T190000
DTEND;TZID=America/Detroit:20230629T210000
DTSTAMP:20260423T174601
CREATED:20230427T225111Z
LAST-MODIFIED:20230427T225116Z
UID:4940-1688065200-1688072400@www.rayoflifehealing.com
SUMMARY:Transformative Self-Healing Class (Day 5 of 10)
DESCRIPTION:More Info and Sign up HERE
URL:https://www.rayoflifehealing.com/event/transformative-self-healing-class-day-5-of-10/
LOCATION:Online\, Webinar\, Anywhere\, United States
CATEGORIES:CCT,classes,Levels 1 & 2 for Personal Use,Transformative Self-Healing
ATTACH;FMTTYPE=image/jpeg:https://www.rayoflifehealing.com/wp-content/uploads/2020/02/Transformative-Self-Healing-Class-Page.jpg
ORGANIZER;CN="Scott McBride":MAILTO:Scott@RayofLifeHealing.com
END:VEVENT
BEGIN:VEVENT
DTSTART;TZID=America/Detroit:20230622T190000
DTEND;TZID=America/Detroit:20230622T210000
DTSTAMP:20260423T174601
CREATED:20230427T224836Z
LAST-MODIFIED:20230427T224841Z
UID:4937-1687460400-1687467600@www.rayoflifehealing.com
SUMMARY:Transformative Self-Healing Class (Day 4 of 10)
DESCRIPTION:More Info and Sign up HERE
URL:https://www.rayoflifehealing.com/event/transformative-self-healing-class-day-4-of-10/
LOCATION:Online\, Webinar\, Anywhere\, United States
CATEGORIES:CCT,classes,Levels 1 & 2 for Personal Use,Transformative Self-Healing
ATTACH;FMTTYPE=image/jpeg:https://www.rayoflifehealing.com/wp-content/uploads/2020/02/Transformative-Self-Healing-Class-Page.jpg
ORGANIZER;CN="Scott McBride":MAILTO:Scott@RayofLifeHealing.com
END:VEVENT
BEGIN:VEVENT
DTSTART;TZID=America/Detroit:20230615T190000
DTEND;TZID=America/Detroit:20230615T210000
DTSTAMP:20260423T174601
CREATED:20230427T223908Z
LAST-MODIFIED:20230427T224158Z
UID:4927-1686855600-1686862800@www.rayoflifehealing.com
SUMMARY:Transformative Self-Healing Class (Day 3 of 10)
DESCRIPTION:More Info and Sign up HERE
URL:https://www.rayoflifehealing.com/event/transformative-self-healing-class-day-3-of-10/
LOCATION:Online\, Webinar\, Anywhere\, United States
CATEGORIES:CCT,classes,Levels 1 & 2 for Personal Use,Transformative Self-Healing
ATTACH;FMTTYPE=image/jpeg:https://www.rayoflifehealing.com/wp-content/uploads/2020/02/Transformative-Self-Healing-Class-Page.jpg
ORGANIZER;CN="Scott McBride":MAILTO:Scott@RayofLifeHealing.com
END:VEVENT
BEGIN:VEVENT
DTSTART;TZID=America/Detroit:20230608T190000
DTEND;TZID=America/Detroit:20230608T210000
DTSTAMP:20260423T174601
CREATED:20230427T223202Z
LAST-MODIFIED:20230427T224619Z
UID:4919-1686250800-1686258000@www.rayoflifehealing.com
SUMMARY:Transformative Self-Healing Class (Day 2 of 10)
DESCRIPTION:More Info and Sign up HERE
URL:https://www.rayoflifehealing.com/event/transformative-self-healing-class-day-2-of-10/
LOCATION:Online\, Webinar\, Anywhere\, United States
CATEGORIES:CCT,classes,Levels 1 & 2 for Personal Use,Transformative Self-Healing
ATTACH;FMTTYPE=image/jpeg:https://www.rayoflifehealing.com/wp-content/uploads/2020/02/Transformative-Self-Healing-Class-Page.jpg
ORGANIZER;CN="Scott McBride":MAILTO:Scott@RayofLifeHealing.com
END:VEVENT
BEGIN:VEVENT
DTSTART;TZID=America/Detroit:20230601T190000
DTEND;TZID=America/Detroit:20230601T210000
DTSTAMP:20260423T174601
CREATED:20230419T022027Z
LAST-MODIFIED:20230427T224441Z
UID:4888-1685646000-1685653200@www.rayoflifehealing.com
SUMMARY:Transformative Self-Healing Class (Day 1 of 10)
DESCRIPTION:More Info and Sign up HERE
URL:https://www.rayoflifehealing.com/event/transformative-self-healing-cct-levels-1-2-for-personal-use/
LOCATION:Online\, Webinar\, Anywhere\, United States
CATEGORIES:CCT,classes,Levels 1 & 2 for Personal Use,Transformative Self-Healing
ATTACH;FMTTYPE=image/jpeg:https://www.rayoflifehealing.com/wp-content/uploads/2020/02/Transformative-Self-Healing-Class-Page.jpg
ORGANIZER;CN="Scott McBride":MAILTO:Scott@RayofLifeHealing.com
END:VEVENT
END:VCALENDAR